Felt | Verdi |
AlreadyApplied | True |
Aperture | 3.5 |
ApertureValue | 3.5 |
BitsPerSample | 8 |
BlueHue | 0 |
BlueSaturation | 0 |
Brightness | 0 |
CameraProfile | Embedded |
ChromaticAberrationB | 0 |
ChromaticAberrationR | 0 |
CircleOfConfusion | 0.019 mm |
Clarity | -100 |
ColorComponents | 3 |
ColorNoiseReduction | 0 |
Contrast | 0 |
ConvertToGrayscale | True |
CreateDate (1) | 2010:08:05 00:38:11+02:00 |
CreateDate | 2010:08:04 23:38:11 |
CreatorTool | Adobe Photoshop Lightroom |
CustomRendered | Normal |
DateAcquired | 2010:08:05 01:43:55.474 |
DateTimeDigitized | 2010:08:04 23:38:11.0+1:00 |
DateTimeOriginal (1) | 2010:08:04 23:38:11.0+1:00 |
DateTimeOriginal | 2010:08:04 23:38:11 |
Defringe | 0 |
ExifImageHeight (1) | 3456 |
ExifImageHeight | 3074 |
ExifImageWidth (1) | 2304 |
ExifImageWidth | 2553 |
Exposure | -0.95 |
ExposureCompensation | 0 |
ExposureMode | Auto |
ExposureProgram | Program AE |
ExposureTime | 1/60 |
FillLight | 11 |
Flash | Off, Did not fire |
FlashFired | False |
FlashFunction | False |
FlashMode | Off |
FlashRedEyeMode | False |
FlashReturn | No return detection |
FNumber | 3.5 |
FocalLength | 48.0 mm |
FocalLength35efl | 48.0 mm (35 mm equivalent: 77.9 mm) |
FOV | 26.0 deg |
GrayMixerAqua | -23 |
GrayMixerBlue | -2 |
GrayMixerGreen | -18 |
GrayMixerMagenta | +12 |
GrayMixerOrange | -1 |
GrayMixerPurple | +11 |
GrayMixerRed | +9 |
GrayMixerYellow | -6 |
GreenHue | 0 |
GreenSaturation | 0 |
HasCrop | False |
HasSettings | True |
HighlightRecovery | 26 |
HyperfocalDistance | 35.54 m |
ImageHeight (1) | 3456 |
ImageHeight | 3074 |
ImageSize | 2553x3074 |
ImageWidth (1) | 2304 |
ImageWidth | 2553 |
IncrementalTemperature | 0 |
IncrementalTint | 0 |
ISO | 200 |
LightValue | 8.5 |
LuminanceSmoothing | 0 |
Make | Canon |
Megapixels | 7.8 |
MeteringMode | Multi-segment |
Model | Canon EOS 350D DIGITAL |
ModifyDate (1) | 2010:08:05 01:52:29+02:00 |
ModifyDate | 2010:08:05 02:00:30 |
ObjectName | |
Orientation | Horizontal (normal) |
ParametricDarks | 0 |
ParametricHighlights | 0 |
ParametricHighlightSplit | 75 |
ParametricLights | 0 |
ParametricMidtoneSplit | 50 |
ParametricShadows | 0 |
ParametricShadowSplit | 25 |
PostCropVignetteAmount | 0 |
ProfileDescription | sRGB IEC61966-2.1 |
RedHue | 0 |
RedSaturation | 0 |
ScaleFactor35efl | 1.6 |
SceneCaptureType | Standard |
Shadows | 6 |
ShadowTint | 0 |
SharpenDetail | 25 |
SharpenEdgeMasking | 0 |
SharpenRadius | +1.0 |
Sharpness | 0 |
ShutterSpeed | 1/60 |
ShutterSpeedValue | 1/60 |
Software | ACD Systems Digital Imaging |
SplitToningBalance | 0 |
SplitToningHighlightHue | 0 |
SplitToningHighlightSaturation | 0 |
SplitToningShadowHue | 0 |
SplitToningShadowSaturation | 0 |
Title | |
ToneCurve | 0, 0, 255, 255 |
ToneCurveName | Linear |
Version | 5.5 |
VignetteAmount | 0 |
WhiteBalance (2) | As Shot |
WhiteBalance | Auto |